BEGIN:VCALENDAR
VERSION:2.0
PRODID:-//TYPO3/NONSGML Calendarize//EN
BEGIN:VEVENT
UID:calendarize-skulpturenweg-am-petersberg
DTSTAMP:20260425T141737Z
DTSTART:20260503T073000Z
DTEND:20260503T150000Z
SUMMARY:In den Biergarten Mariabrunn
DESCRIPTION:Über Ilmmünster\, Herrnrast und Paunzhausen fahren wir nach 
 Allershausen. Von dort führt uns der Ammer-Amper-Radweg bis Ampermoching.
  Eine kurze letzte Steigung\, und wir erreichen unser Tagesziel\, den idyl
 lisch in einem Wäldchen gelegenen Biergarten Mariabrunn. Nach der wohlver
 dienten Mittagsrast führt uns der Rückweg über Petershausen\, Reicherts
 hausen durch das Ilmtal zurück nach Pfaffenhofen.
X-ALT-DESC;FMTTYPE=text/html:<p>Über Ilmmünster\, Herrnrast und Paunzhau
 sen fahren wir nach Allershausen. Von dort führt uns der Ammer-Amper-Radw
 eg bis Ampermoching. Eine kurze letzte Steigung\, und wir erreichen unser 
 Tagesziel\, den idyllisch in einem Wäldchen gelegenen Biergarten Mariabru
 nn. Nach der wohlverdienten Mittagsrast führt uns der Rückweg über Pete
 rshausen\, Reichertshausen durch das Ilmtal zurück nach Pfaffenhofen.</p>
LOCATION:Rathaus Pfaffenhofen (Treffpunkt)
END:VEVENT
END:VCALENDAR
