BEGIN:VCALENDAR
VERSION:2.0
PRODID:-//TYPO3/NONSGML Calendarize//EN
BEGIN:VEVENT
UID:calendarize-niederdorf
DTSTAMP:20260423T083347Z
DTSTART:20260823T063000Z
DTEND:20260823T153000Z
SUMMARY:Von Ingolstadt nach Pöttmes
DESCRIPTION:Start dieser Tour ist der Hauptbahnhof Ingolstadt. Treffpunkt 
 ist an der historischen Lokomotive in der Bahnhofstraße vor dem Haupteing
 ang. Die Teilnehmer\, die von Pfaffenhofen mit der Bahn anreisen\, werden 
 in Ingolstadt am Bahnsteig von der Tourenleitung empfangen. Wir radeln üb
 er Buschletten\, Weichering\, Nazibühl\, Rohrenfels und Ehekirchen nach P
 öttmes. Nach der Mittagseinkehr öffnet dort für uns das privat geführt
 e Fahrradmuseum zu einer Besichtigung. Die Rückfahrt führt uns dann durc
 h das flache Donaumoos. Beim Pflanzenlabyrinth und beim Donaumoospegel in 
 Ludwigsmoos machen wir einen kurzen Stopp. Außerdem ist am Nachmittag ein
 e Kaffeepause geplant\, bevor wir wieder unseren Ausgangspunkt in Ingolsta
 dt erreichen.\nEine Anmeldung ist erforderlich per Email unter adfc@adfc-p
 faffenhofen.de.
X-ALT-DESC;FMTTYPE=text/html:<p>Start dieser Tour ist der Hauptbahnhof Ing
 olstadt. Treffpunkt ist an der historischen Lokomotive in der Bahnhofstraß
 e vor dem Haupteingang. Die Teilnehmer\, die von Pfaffenhofen mit der Bahn
  anreisen\, werden in Ingolstadt am Bahnsteig von der Tourenleitung empfan
 gen. Wir radeln über Buschletten\, Weichering\, Nazibühl\, Rohrenfels un
 d Ehekirchen nach Pöttmes. Nach der Mittagseinkehr öffnet dort für uns 
 das privat geführte Fahrradmuseum zu einer Besichtigung. Die Rückfahrt f
 ührt uns dann durch das flache Donaumoos. Beim Pflanzenlabyrinth und beim
  Donaumoospegel in Ludwigsmoos machen wir einen kurzen Stopp. Außerdem is
 t am Nachmittag eine Kaffeepause geplant\, bevor wir wieder unseren Ausgan
 gspunkt in Ingolstadt erreichen.</p>\n<p>Eine Anmeldung ist erforderlich p
 er Email unter adfc@adfc-pfaffenhofen.de.</p>
LOCATION:Hauptbahnhof Ingolstadt an der historischen Lokomotive (Treffpunk
 t)
END:VEVENT
END:VCALENDAR
