BEGIN:VCALENDAR
VERSION:2.0
PRODID:-//TYPO3/NONSGML Calendarize//EN
BEGIN:VEVENT
UID:calendarize-jahres-hauptversammlung
DTSTAMP:20260423T083315Z
DTSTART:20260313T180000Z
SUMMARY:Jahres-Hauptversammlung 2026
DESCRIPTION:Liebe Vereinsmitglieder\,\nhiermit laden wir Euch zu unserer d
 iesjährigen Jahreshauptversammlung ein. Sie findet statt am Freitag\, 13.
  März 2026 um 19:00 Uhr in der Gaststätte am Waldspielplatz in Reisgang.
 \nWir bitten die Mitglieder\, die uns beim Couvertieren der Programme helf
 en möchten\, schon um 18.00 Uhr vor Ort zu sein. Dankeschön im Voraus!\n
 Folgende Tagesordnung ist vorgesehen:\n 	Begrüßung und Wahl des Versamml
 ungsleiters 	Genehmigung der Tagesordnung 	Rechenschaftsbericht des Vorsta
 ndes 	Finanzbericht der Schatzmeisterin 	Entlastung der Schatzmeisterin un
 d des Vorstandes 	Neuwahlen des Vorstandsteams (1. Ansprechpartner\, Schat
 zmeister\, Beisitzer) 	Ausblick auf die kommende Radlsaison 	Ehrung langjä
 hriger Mitglieder 	Verschiedenes (u.a. Verteilung der neuen Tourenprogramm
 e) \nÄnderungswünsche und/oder Ergänzungen sendet uns bitte bis zum 09.
 03.2026 per E-Mail.\nAufgrund des Rücktritts von Alex Schmidt als 1. Vors
 tand muß diese Position neu besetzt werden. Wir\, die noch amtierenden Vo
 rstandsmitglieder\, stellen uns vor\, den Vorstand in Form eines Teams mit
  festen Aufgaben für jedes Mitglied sowie einem festgelegten 1. Ansprechp
 artner für die übergeordneten Organisationen des ADFC neu zu bilden.\nGe
 rn nehmen wir Vorschläge für neue Kandidaten entgegen.\nViele Grüße\nE
 uer Vorstandsteam
X-ALT-DESC;FMTTYPE=text/html:<p>Liebe Vereinsmitglieder\,</p>\n<p>hiermit 
 laden wir Euch zu unserer diesjährigen Jahreshauptversammlung ein.<br /> 
 Sie findet statt am <strong>Freitag\, 13. März 2026 um 19:00 Uhr</strong>
 <br /> in der <a href="https://deref-gmx.net/mail/client/uaBuUTb9E1o/deref
 errer/?redirectUrl=https%3A%2F%2Fwww.waldspielplatz.net%2F" rel="nofollow 
 noopener noreferrer" target="_blank">Gaststätte am Waldspielplatz</a> in 
 Reisgang.</p>\n<p>Wir bitten die Mitglieder\, die uns beim Couvertieren de
 r Programme helfen möchten\,<br /> schon um 18.00 Uhr vor Ort zu sein. Da
 nkeschön im Voraus!</p>\n<p><strong>Folgende Tagesordnung ist vorgesehen:
 </strong></p>\n<ol> 	<li>Begrüßung und Wahl des Versammlungsleiters</li>
  	<li>Genehmigung der Tagesordnung</li> 	<li>Rechenschaftsbericht des Vors
 tandes</li> 	<li>Finanzbericht der Schatzmeisterin</li> 	<li>Entlastung de
 r Schatzmeisterin und des Vorstandes</li> 	<li>Neuwahlen des Vorstandsteam
 s (1. Ansprechpartner\, Schatzmeister\, Beisitzer)</li> 	<li>Ausblick auf 
 die kommende Radlsaison</li> 	<li>Ehrung langjähriger Mitglieder</li> 	<l
 i>Verschiedenes (u.a. Verteilung der neuen Tourenprogramme)</li> </ol>\n<p
 >Änderungswünsche und/oder Ergänzungen sendet uns bitte bis zum 09.03.2
 026 per E-Mail.</p>\n<p>Aufgrund des Rücktritts von Alex Schmidt als 1. V
 orstand muß diese Position neu besetzt werden.<br /> Wir\, die noch amtie
 renden Vorstandsmitglieder\, stellen uns vor\, den Vorstand in Form eines 
 Teams<br /> mit festen Aufgaben für jedes Mitglied sowie einem festgelegt
 en 1. Ansprechpartner<br /> für die übergeordneten Organisationen des AD
 FC neu zu bilden.</p>\n<p>Gern nehmen wir Vorschläge für neue Kandidaten
  entgegen.</p>\n<p>Viele Grüße</p>\n<p>Euer Vorstandsteam</p>
LOCATION:Gaststätte am Waldspielplatz
END:VEVENT
END:VCALENDAR
