BEGIN:VCALENDAR
VERSION:2.0
PRODID:-//TYPO3/NONSGML Calendarize//EN
BEGIN:VEVENT
UID:calendarize-feierabendtour-am-mittwoch-1
DTSTAMP:20260422T121146Z
DTSTART:20260429T160000Z
DTEND:20260429T180000Z
SUMMARY:Feierabendtour am Mittwoch
DESCRIPTION:Wir starten heute um 18:00 Uhr zu unserer zügigen Feierabendt
 our über Forstern.
X-ALT-DESC;FMTTYPE=text/html:<p>Wir starten heute um 18:00 Uhr zu unserer 
 zügigen Feierabendtour über Forstern.</p>
LOCATION:Rathaus Pfaffenhofen (Treffpunkt)
END:VEVENT
END:VCALENDAR
