BEGIN:VCALENDAR
VERSION:2.0
PRODID:-//TYPO3/NONSGML Calendarize//EN
BEGIN:VEVENT
UID:calendarize-adfc-stammtisch-1-2-1
DTSTAMP:20260423T084700Z
DTSTART:20260515T170000Z
SUMMARY:adfc-Stammtisch
DESCRIPTION:Liebe Vereinsmitglieder\, Aktive und Freunde des ADFC\,\nhierm
 it laden wir Euch zu unserem monatlichen Stammtisch ein. Er findet statt a
 m Freitag\, 9. Mai\, um 19:00 Uhr im Landgasthof Holledauer Hütte\, Förn
 bach\, Kohlstattweg 15\, 85276 Pfaffenhofen.  Wir würden uns über mögli
 chst viele Teilnehmer freuen.
X-ALT-DESC;FMTTYPE=text/html:<p>Liebe Vereinsmitglieder\, Aktive und Freun
 de des ADFC\,</p>\n<p>hiermit laden wir Euch zu unserem monatlichen Stammt
 isch ein. Er findet statt am Freitag\, 9. Mai\, um 19:00 Uhr im <a href="h
 ttps://holledauerhuette.com/">Landgasthof Holledauer Hütte</a>\, Förnbac
 h\, Kohlstattweg 15\, 85276 Pfaffenhofen.<br /> <br /> Wir würden uns üb
 er möglichst viele Teilnehmer freuen.</p>
LOCATION:Landgasthof Holledauer Hütte\, Förnbach\, Kohlstattweg 15\, 852
 76 Pfaffenhofen
END:VEVENT
END:VCALENDAR
